BEGIN:VCALENDAR
VERSION:2.0
PRODID:-//CQA - ECPv4.2.4//NONSGML v1.0//EN
CALSCALE:GREGORIAN
METHOD:PUBLISH
X-WR-CALNAME:CQA
X-ORIGINAL-URL:https://cqa.guam.gov
X-WR-CALDESC:Events for CQA
BEGIN:VEVENT
DTSTART;TZID=UTC+0:20160913T080000
DTEND;TZID=UTC+0:20160916T120000
DTSTAMP:20210427T210845
CREATED:20160903T062603
LAST-MODIFIED:20160908T070350
UID:2551-1473753600-1474027200@cqa.guam.gov
SUMMARY:Coastal Awareness and Appreciation Week
DESCRIPTION:This week following the 2016 Coastal Cleanup\, the Guam Environmental Protection Agency will be hosting its first annual Coastal Awareness and Appreciation Week at various GDOE middle and high schools.\n\nGEPA will be showcasing a variety of presentations\, including Coral Bleaching Awareness\, Haggan Watch\, and much more.\n\nHere are the following participating locations:\n\nMiddle schools:\nAgueda Johnston Middle School (Ordot)\nAstumbo Middle School (Dededo)\nF.B. Leon Guerrero Middle School (Yigo)\nInarajan Middle School (Inarajan)\nJose Rios Middle School (Piti)\nLuis P. Untalan Middle School (Barrigada)\nOceanview Middle School (Agat)\nVicente San Agustin Benavente Middle School (Dededo)\n\nHigh schools:\nGeorge Washington High School (Mangilao)\nJohn F. Kennedy High School (Tamuning)\nOkkodo High School (Dededo)\nSimon Sanchez High School (Yigo)\nSouthern High School (Santa Rita)\nTiyan High School (Barrigada)\n\nPhoto Courtesy of Russell Gilbert\n\n
URL:https://cqa.guam.gov/event/dept2_event_recurrance/
LOCATION:Guam
GEO:13.444304;144.793731
CATEGORIES:Conference/Workshop,Public
END:VEVENT
END:VCALENDAR